BEGIN:VCALENDAR
VERSION:2.0
PRODID:-//BÜRGER- UND KULTURVEREIN OBERNDORF 1997 E.V. - ECPv6.15.20//NONSGML v1.0//EN
CALSCALE:GREGORIAN
METHOD:PUBLISH
X-ORIGINAL-URL:https://bkv-oberndorf.de
X-WR-CALDESC:Veranstaltungen für BÜRGER- UND KULTURVEREIN OBERNDORF 1997 E.V.
REFRESH-INTERVAL;VALUE=DURATION:PT1H
X-Robots-Tag:noindex
X-PUBLISHED-TTL:PT1H
BEGIN:VTIMEZONE
TZID:UTC
BEGIN:STANDARD
TZOFFSETFROM:+0000
TZOFFSETTO:+0000
TZNAME:UTC
DTSTART:20230101T000000
END:STANDARD
END:VTIMEZONE
BEGIN:VEVENT
DTSTART;TZID=UTC:20240529T000000
DTEND;TZID=UTC:20240531T235959
DTSTAMP:20260422T103748
CREATED:20240515T185214Z
LAST-MODIFIED:20260409T163208Z
UID:75-1716940800-1717199999@bkv-oberndorf.de
SUMMARY:Zeltlager der Landzknechterotte
DESCRIPTION:Vom 29. bis 31. Mai 2024 A.D. findet im Friedrich-Pfister-Park zu Obernrheinfeld (ak Oberndorf) das Zeltlager der Landzknechte aus der Reichsstadt Schweinfurth statt. \nWir würden uns freuen\, wenn noch weitere Personenen und Gruppen uns Gesellschaft leisten würden und mit uns am 30. Mai 2024 A.D. das Fest anlässlich des Walpurgisgerichts in Obernrheinfeld feiern. \nMeldungen bitte an den elektronischen Brieftaubenschlag weiter unten.
URL:https://bkv-oberndorf.de/event/spaetmittelalterliches-zeltlager-der-reichsstaedtischen-landzknechte-zu-schweinfurt/
LOCATION:Friedrich-Pfister-Park\, Schweinfurt / Oberndorf\, Schulgasse\, Schweinfurt\, 97424\, Germany
ATTACH;FMTTYPE=image/png:https://bkv-oberndorf.de/wp-content/uploads/2025/06/HP_LKR_Holzschnitt_Lager_02.png
ORGANIZER;CN="Landzknechtrotte der Reichsstadt Schweinfurt A.D. 1516":MAILTO:LandzKnechTsRotte@BKV-Oberndorf.de
END:VEVENT
END:VCALENDAR