BEGIN:VCALENDAR
VERSION:2.0
PRODID:-//BÜRGER- UND KULTURVEREIN OBERNDORF 1997 E.V. - ECPv6.15.20//NONSGML v1.0//EN
CALSCALE:GREGORIAN
METHOD:PUBLISH
X-WR-CALNAME:BÜRGER- UND KULTURVEREIN OBERNDORF 1997 E.V.
X-ORIGINAL-URL:https://bkv-oberndorf.de
X-WR-CALDESC:Veranstaltungen für BÜRGER- UND KULTURVEREIN OBERNDORF 1997 E.V.
REFRESH-INTERVAL;VALUE=DURATION:PT1H
X-Robots-Tag:noindex
X-PUBLISHED-TTL:PT1H
BEGIN:VTIMEZONE
TZID:Europe/Berlin
BEGIN:DAYLIGHT
TZOFFSETFROM:+0100
TZOFFSETTO:+0200
TZNAME:CEST
DTSTART:20230326T010000
END:DAYLIGHT
BEGIN:STANDARD
TZOFFSETFROM:+0200
TZOFFSETTO:+0100
TZNAME:CET
DTSTART:20231029T010000
END:STANDARD
BEGIN:DAYLIGHT
TZOFFSETFROM:+0100
TZOFFSETTO:+0200
TZNAME:CEST
DTSTART:20240331T010000
END:DAYLIGHT
BEGIN:STANDARD
TZOFFSETFROM:+0200
TZOFFSETTO:+0100
TZNAME:CET
DTSTART:20241027T010000
END:STANDARD
BEGIN:DAYLIGHT
TZOFFSETFROM:+0100
TZOFFSETTO:+0200
TZNAME:CEST
DTSTART:20250330T010000
END:DAYLIGHT
BEGIN:STANDARD
TZOFFSETFROM:+0200
TZOFFSETTO:+0100
TZNAME:CET
DTSTART:20251026T010000
END:STANDARD
END:VTIMEZONE
BEGIN:VEVENT
DTSTART;TZID=Europe/Berlin:20241120T140000
DTEND;TZID=Europe/Berlin:20241120T170000
DTSTAMP:20260422T010639
CREATED:20241118T160712Z
LAST-MODIFIED:20260409T162846Z
UID:358-1732111200-1732122000@bkv-oberndorf.de
SUMMARY:Schafkopf beim Wintertreff
DESCRIPTION:Der BKVO lädt alle herzlich ein am Schafkopf beim Wintertreff teilzunehmen. Die Veranstaltung findet am 20.11.2024 ab 14 Uhr im ehem. Feuerwehrhaus in Oberndorf (Stadtteil von Schweinfurt) statt.
URL:https://bkv-oberndorf.de/event/schafkopf-beim-wintertreff/
LOCATION:Feuerwehrhaus Oberndorf\, Am Feldtor 1\, Schweinfurt\, Bayern\, 97424\, Germany
ATTACH;FMTTYPE=image/png:https://bkv-oberndorf.de/wp-content/uploads/2026/04/BKVO_Kachel_Wintertreff_2024.png
END:VEVENT
END:VCALENDAR