BEGIN:VCALENDAR
VERSION:2.0
PRODID:-//BÜRGER- UND KULTURVEREIN OBERNDORF 1997 E.V. - ECPv6.15.20//NONSGML v1.0//EN
CALSCALE:GREGORIAN
METHOD:PUBLISH
X-ORIGINAL-URL:https://bkv-oberndorf.de
X-WR-CALDESC:Veranstaltungen für BÜRGER- UND KULTURVEREIN OBERNDORF 1997 E.V.
REFRESH-INTERVAL;VALUE=DURATION:PT1H
X-Robots-Tag:noindex
X-PUBLISHED-TTL:PT1H
BEGIN:VTIMEZONE
TZID:Europe/Berlin
BEGIN:DAYLIGHT
TZOFFSETFROM:+0100
TZOFFSETTO:+0200
TZNAME:CEST
DTSTART:20230326T010000
END:DAYLIGHT
BEGIN:STANDARD
TZOFFSETFROM:+0200
TZOFFSETTO:+0100
TZNAME:CET
DTSTART:20231029T010000
END:STANDARD
BEGIN:DAYLIGHT
TZOFFSETFROM:+0100
TZOFFSETTO:+0200
TZNAME:CEST
DTSTART:20240331T010000
END:DAYLIGHT
BEGIN:STANDARD
TZOFFSETFROM:+0200
TZOFFSETTO:+0100
TZNAME:CET
DTSTART:20241027T010000
END:STANDARD
BEGIN:DAYLIGHT
TZOFFSETFROM:+0100
TZOFFSETTO:+0200
TZNAME:CEST
DTSTART:20250330T010000
END:DAYLIGHT
BEGIN:STANDARD
TZOFFSETFROM:+0200
TZOFFSETTO:+0100
TZNAME:CET
DTSTART:20251026T010000
END:STANDARD
END:VTIMEZONE
BEGIN:VEVENT
DTSTART;TZID=Europe/Berlin:20241201T163000
DTEND;TZID=Europe/Berlin:20241201T163000
DTSTAMP:20260421T231358
CREATED:20241118T161530Z
LAST-MODIFIED:20260409T155826Z
UID:360-1733070600-1733070600@bkv-oberndorf.de
SUMMARY:Oberndorfer Weihnachtsbaum Beleuchtung
DESCRIPTION:Der BKVO lädt zur Beleuchtungsfeier am Sonntag den 1. Dezember ein.\nAb 17 Uhr kommt der Heilige Nikolaus und es wird Bratwürste Glühwein und Kinderpunsch geben. \nWir freuen uns euch begrüßen zu dürfen
URL:https://bkv-oberndorf.de/event/beleuchtungsfeier-am-oberndorfer-weihnachtsbaum/
LOCATION:Feuerwehrhaus Oberndorf\, Am Feldtor 1\, Schweinfurt\, Bayern\, 97424\, Germany
CATEGORIES:Feier,Freiluft
ATTACH;FMTTYPE=image/png:https://bkv-oberndorf.de/wp-content/uploads/2026/04/HP_BKVO_Plakat_Beleuchtungsfeier_2024.png
END:VEVENT
END:VCALENDAR