BEGIN:VCALENDAR
VERSION:2.0
PRODID:-//BÃœRGER- UND KULTURVEREIN OBERNDORF 1997 E.V. - ECPv6.15.20//NONSGML v1.0//EN
CALSCALE:GREGORIAN
METHOD:PUBLISH
X-ORIGINAL-URL:https://bkv-oberndorf.de
X-WR-CALDESC:Veranstaltungen fÃ¼r BÃœRGER- UND KULTURVEREIN OBERNDORF 1997 E.V.
REFRESH-INTERVAL;VALUE=DURATION:PT1H
X-Robots-Tag:noindex
X-PUBLISHED-TTL:PT1H
BEGIN:VTIMEZONE
TZID:Europe/Berlin
BEGIN:DAYLIGHT
TZOFFSETFROM:+0100
TZOFFSETTO:+0200
TZNAME:CEST
DTSTART:20230326T010000
END:DAYLIGHT
BEGIN:STANDARD
TZOFFSETFROM:+0200
TZOFFSETTO:+0100
TZNAME:CET
DTSTART:20231029T010000
END:STANDARD
BEGIN:DAYLIGHT
TZOFFSETFROM:+0100
TZOFFSETTO:+0200
TZNAME:CEST
DTSTART:20240331T010000
END:DAYLIGHT
BEGIN:STANDARD
TZOFFSETFROM:+0200
TZOFFSETTO:+0100
TZNAME:CET
DTSTART:20241027T010000
END:STANDARD
BEGIN:DAYLIGHT
TZOFFSETFROM:+0100
TZOFFSETTO:+0200
TZNAME:CEST
DTSTART:20250330T010000
END:DAYLIGHT
BEGIN:STANDARD
TZOFFSETFROM:+0200
TZOFFSETTO:+0100
TZNAME:CET
DTSTART:20251026T010000
END:STANDARD
END:VTIMEZONE
BEGIN:VEVENT
DTSTART;TZID=Europe/Berlin:20241213T180000
DTEND;TZID=Europe/Berlin:20241213T180000
DTSTAMP:20260421T231414
CREATED:20241118T162017Z
LAST-MODIFIED:20260409T162249Z
UID:365-1734112800-1734112800@bkv-oberndorf.de
SUMMARY:Anlachgeschichten - Der SÃ¼ndenfall von Fall zu Fall
DESCRIPTION:Der BKVO lÃ¤dt am 13. Dezember 2024 zu einem Vortrag von Frau Hildegard und Herrn Hans Driesel ein.\nNÃ¤here Informationen finden Sie im angehÃ¤ngten Plakat. \nAnlachgeschichten \n 
URL:https://bkv-oberndorf.de/event/anlachgeschichten-der-suendenfall-von-fall-zu-fall/
LOCATION:Feuerwehrhaus Oberndorf\, Am Feldtor 1\, Schweinfurt\, Bayern\, 97424\, Germany
CATEGORIES:Lesung,Veranstaltung
ATTACH;FMTTYPE=image/png:https://bkv-oberndorf.de/wp-content/uploads/2024/11/HP_BKVO_Kachel_Anlachg_2024.png
END:VEVENT
END:VCALENDAR