BEGIN:VCALENDAR
VERSION:2.0
PRODID:-//BÃœRGER- UND KULTURVEREIN OBERNDORF 1997 E.V. - ECPv6.15.20//NONSGML v1.0//EN
CALSCALE:GREGORIAN
METHOD:PUBLISH
X-WR-CALNAME:BÃœRGER- UND KULTURVEREIN OBERNDORF 1997 E.V.
X-ORIGINAL-URL:https://bkv-oberndorf.de
X-WR-CALDESC:Veranstaltungen fÃ¼r BÃœRGER- UND KULTURVEREIN OBERNDORF 1997 E.V.
REFRESH-INTERVAL;VALUE=DURATION:PT1H
X-Robots-Tag:noindex
X-PUBLISHED-TTL:PT1H
BEGIN:VTIMEZONE
TZID:Europe/Berlin
BEGIN:DAYLIGHT
TZOFFSETFROM:+0100
TZOFFSETTO:+0200
TZNAME:CEST
DTSTART:20230326T010000
END:DAYLIGHT
BEGIN:STANDARD
TZOFFSETFROM:+0200
TZOFFSETTO:+0100
TZNAME:CET
DTSTART:20231029T010000
END:STANDARD
BEGIN:DAYLIGHT
TZOFFSETFROM:+0100
TZOFFSETTO:+0200
TZNAME:CEST
DTSTART:20240331T010000
END:DAYLIGHT
BEGIN:STANDARD
TZOFFSETFROM:+0200
TZOFFSETTO:+0100
TZNAME:CET
DTSTART:20241027T010000
END:STANDARD
BEGIN:DAYLIGHT
TZOFFSETFROM:+0100
TZOFFSETTO:+0200
TZNAME:CEST
DTSTART:20250330T010000
END:DAYLIGHT
BEGIN:STANDARD
TZOFFSETFROM:+0200
TZOFFSETTO:+0100
TZNAME:CET
DTSTART:20251026T010000
END:STANDARD
END:VTIMEZONE
BEGIN:VTIMEZONE
TZID:UTC
BEGIN:STANDARD
TZOFFSETFROM:+0000
TZOFFSETTO:+0000
TZNAME:UTC
DTSTART:20230101T000000
END:STANDARD
END:VTIMEZONE
BEGIN:VEVENT
DTSTART;TZID=Europe/Berlin:20240501T140000
DTEND;TZID=Europe/Berlin:20240501T180000
DTSTAMP:20260422T121403
CREATED:20240429T154756Z
LAST-MODIFIED:20260407T211740Z
UID:306-1714572000-1714586400@bkv-oberndorf.de
SUMMARY:Auf den StraÃŸen der Vielfalt - Ein Fest fÃ¼r alle
DESCRIPTION:Am 1. Mai 2024 lÃ¤dt der BÃ¼rger und Kulturverein zusammen mit vielen weiteren Partnern zu einem StraÃŸenfest fÃ¼r die ganze Familie ein. \n 
URL:https://bkv-oberndorf.de/event/auf-den-strassen-der-vielfalt-ein-fest-fuer-alle/
LOCATION:Hauptstrasze in Oberndorf\, Haupstrasze\, Oberndorf\, Franken\, 97424\, Germany
END:VEVENT
BEGIN:VEVENT
DTSTART;TZID=UTC:20240529T000000
DTEND;TZID=UTC:20240531T235959
DTSTAMP:20260422T121403
CREATED:20240515T185214Z
LAST-MODIFIED:20260409T163208Z
UID:75-1716940800-1717199999@bkv-oberndorf.de
SUMMARY:Zeltlager der Landzknechterotte
DESCRIPTION:Vom 29. bis 31. Mai 2024 A.D. findet im Friedrich-Pfister-Park zu Obernrheinfeld (ak Oberndorf) das Zeltlager der Landzknechte aus der Reichsstadt Schweinfurth statt. \nWir wÃ¼rden uns freuen\, wenn noch weitere Personenen und Gruppen uns Gesellschaft leisten wÃ¼rden und mit uns am 30. Mai 2024 A.D. das Fest anlÃ¤sslich des Walpurgisgerichts in Obernrheinfeld feiern. \nMeldungen bitte an den elektronischen Brieftaubenschlag weiter unten.
URL:https://bkv-oberndorf.de/event/spaetmittelalterliches-zeltlager-der-reichsstaedtischen-landzknechte-zu-schweinfurt/
LOCATION:Friedrich-Pfister-Park\, Schweinfurt / Oberndorf\, Schulgasse\, Schweinfurt\, 97424\, Germany
ATTACH;FMTTYPE=image/png:https://bkv-oberndorf.de/wp-content/uploads/2025/06/HP_LKR_Holzschnitt_Lager_02.png
ORGANIZER;CN="Landzknechtrotte der Reichsstadt Schweinfurt A.D. 1516":MAILTO:LandzKnechTsRotte@BKV-Oberndorf.de
END:VEVENT
BEGIN:VEVENT
DTSTART;TZID=Europe/Berlin:20240530T120000
DTEND;TZID=Europe/Berlin:20240530T210000
DTSTAMP:20260422T121403
CREATED:20240228T233405Z
LAST-MODIFIED:20240429T155514Z
UID:252-1717070400-1717102800@bkv-oberndorf.de
SUMMARY:Walpurgisgericht Obernrheinfeld A.D. 2024
DESCRIPTION:MÃ¶chten Sie Geschichte &#8220;live&#8221; (zum &#8220;Anfassen&#8221;) erleben? Menschen mit historischen GewÃ¤nder sehen oder sogar welche selbst tragen (Gewandete BesucherInnen sind besonders herzlich willkommen)? Mittelalterliche und frÃ¼hneuzeitliche (Renaissance) Speisen und GetrÃ¤nke genieszen? Eine an die alte Zeit angelehnte Gerichtsverhandlung erleben (Anmerkung: Dieses Gericht war kein &#8220;Halsgericht&#8221;\, konnte also keine Todesstrafe verhÃ¤ngen). Auszerdem werden unsere Barden und eine &#8220;laufende Musikgruppe&#8221; (BÃ¤saraisser) fÃ¼r eine musikalische Begleitung des Festbetriebes sorgen.\n(Anmerkung: Das &#8220;Walpurgisgericht&#8221; war eine tatsÃ¤chliche historisch jÃ¤hrlich stattfindende Gerichtsverhandlung in Obernrheinfeld ak Oberndorf am Main\, die nach dem alten Jahresbeginn 1. Mai [=Gedenktag der Hl. Walburga] jedes Jahr [ab 1438] durch den Rath der Stadt Schweinfurth unter der Leitung des Schultheiszen als SchÃ¶ffengericht durchgefÃ¼hrt wurde. Ausgehend von dieser historischen Begebenheit wurden historische bis historisierende TheaterstÃ¼cke geschaffen\, um die sich mittlerweile ein {ausgenommen in der Corona-Pest-Zeit} historisierendes Fest mit ca. 3000 Besuchern entwickelt hat.)
URL:https://bkv-oberndorf.de/event/walpurgisgericht-obernrheinfeld-a-d-2024/
LOCATION:Friedrich-Pfister-Park\, Schweinfurt / Oberndorf\, Schulgasse\, Schweinfurt\, 97424\, Germany
END:VEVENT
END:VCALENDAR